BEGIN:VCALENDAR
VERSION:2.0
PRODID:-//Asier Polo - ECPv5.8.1//NONSGML v1.0//EN
CALSCALE:GREGORIAN
METHOD:PUBLISH
X-WR-CALNAME:Asier Polo
X-ORIGINAL-URL:https://www.asierpolo.com
X-WR-CALDESC:Eventos para Asier Polo
BEGIN:VTIMEZONE
TZID:Europe/Madrid
BEGIN:DAYLIGHT
TZOFFSETFROM:+0100
TZOFFSETTO:+0200
TZNAME:CEST
DTSTART:20250330T010000
END:DAYLIGHT
BEGIN:STANDARD
TZOFFSETFROM:+0200
TZOFFSETTO:+0100
TZNAME:CET
DTSTART:20251026T010000
END:STANDARD
END:VTIMEZONE
BEGIN:VEVENT
DTSTART;TZID=Europe/Madrid:20250716T200000
DTEND;TZID=Europe/Madrid:20250716T200000
DTSTAMP:20260422T140243
CREATED:20250220T160950Z
LAST-MODIFIED:20250220T160950Z
UID:4134-1752696000-1752696000@www.asierpolo.com
SUMMARY:XXXIX Semana Musical de Bakio
DESCRIPTION:Obras de Beethoven\, Brahms\, Respighi\, Boulanger\, Debussy… \n  \nAsier Polo\, violonchelo \nMarta Zabaleta\, piano \n 
URL:https://www.asierpolo.com/evento/xxxix-semana-musical-de-bakio/
LOCATION:Iglesia de Andra Mari\, Monte Jata\, Bakio\, Bizkaia\, 48130\, España
ATTACH;FMTTYPE=image/jpeg:https://www.asierpolo.com/wp-content/uploads/2023/05/1-ASIER-POLO115-copia-scaled.jpg
END:VEVENT
END:VCALENDAR