BEGIN:VCALENDAR
VERSION:2.0
PRODID:-//Asier Polo - ECPv5.8.1//NONSGML v1.0//EN
CALSCALE:GREGORIAN
METHOD:PUBLISH
X-WR-CALNAME:Asier Polo
X-ORIGINAL-URL:https://www.asierpolo.com
X-WR-CALDESC:Eventos para Asier Polo
BEGIN:VTIMEZONE
TZID:Europe/Madrid
BEGIN:DAYLIGHT
TZOFFSETFROM:+0100
TZOFFSETTO:+0200
TZNAME:CEST
DTSTART:20180325T010000
END:DAYLIGHT
BEGIN:STANDARD
TZOFFSETFROM:+0200
TZOFFSETTO:+0100
TZNAME:CET
DTSTART:20181028T010000
END:STANDARD
END:VTIMEZONE
BEGIN:VEVENT
DTSTART;TZID=Europe/Madrid:20180906T203000
DTEND;TZID=Europe/Madrid:20180906T203000
DTSTAMP:20260422T141053
CREATED:20180705T192832Z
LAST-MODIFIED:20180705T193252Z
UID:2346-1536265800-1536265800@www.asierpolo.com
SUMMARY:Stresa Festival: Suites para violoncello solo (II)
DESCRIPTION:J. S. Bach: Suites para violonchelo solo nº 3\, 2 y 6 (BWV 1009\, 1008\, 1012) \n  \nMás info y venta de entradas
URL:https://www.asierpolo.com/evento/stresa-festival-suites-para-violoncello-solo-ii/
LOCATION:Eremo di Santa Caterina del Sasso\, Leggiuno\, Italia
ATTACH;FMTTYPE=image/jpeg:https://www.asierpolo.com/wp-content/uploads/2018/07/Stresa_Festival_LOGO.jpg
END:VEVENT
END:VCALENDAR