BEGIN:VCALENDAR
VERSION:2.0
PRODID:-//Asier Polo - ECPv5.8.1//NONSGML v1.0//EN
CALSCALE:GREGORIAN
METHOD:PUBLISH
X-WR-CALNAME:Asier Polo
X-ORIGINAL-URL:https://www.asierpolo.com
X-WR-CALDESC:Eventos para Asier Polo
BEGIN:VTIMEZONE
TZID:Europe/Madrid
BEGIN:DAYLIGHT
TZOFFSETFROM:+0100
TZOFFSETTO:+0200
TZNAME:CEST
DTSTART:20250330T010000
END:DAYLIGHT
BEGIN:STANDARD
TZOFFSETFROM:+0200
TZOFFSETTO:+0100
TZNAME:CET
DTSTART:20251026T010000
END:STANDARD
END:VTIMEZONE
BEGIN:VEVENT
DTSTART;TZID=Europe/Madrid:20250808T190000
DTEND;TZID=Europe/Madrid:20250808T190000
DTSTAMP:20260424T125130
CREATED:20250306T102610Z
LAST-MODIFIED:20250306T102610Z
UID:4153-1754679600-1754679600@www.asierpolo.com
SUMMARY:Sion Festival. Tibor Varga Summer Academy
DESCRIPTION:J. Brahms: Cello sonata n.1\, op.38 \nL. van Beethoven: 7 variations on Theme “Bee Manners\, welche Liebe fühlen” from Mozart’s Magic Flute\, WoO 70 \nO. Respighi: Adagio con variazioni \nC. Debussy: Cello sonata \n  \nAsier Polo\, violonchelo \nRicardo Ali Álvarez\, piano \n  \nMás información
URL:https://www.asierpolo.com/evento/sion-festival-tibor-varga-summer-academy/
LOCATION:Academy Of Music Tibor Varga\, Place Ambuel 7\, Sion\, 1950\, Suiza
ATTACH;FMTTYPE=image/webp:https://www.asierpolo.com/wp-content/uploads/2025/03/SVM-Sion-Festival-2023-Banner-WP-2048x1280px-RVB-2023.jpg.webp
END:VEVENT
END:VCALENDAR