BEGIN:VCALENDAR
VERSION:2.0
PRODID:-//Asier Polo - ECPv5.8.1//NONSGML v1.0//EN
CALSCALE:GREGORIAN
METHOD:PUBLISH
X-WR-CALNAME:Asier Polo
X-ORIGINAL-URL:https://www.asierpolo.com
X-WR-CALDESC:Eventos para Asier Polo
BEGIN:VTIMEZONE
TZID:Europe/Madrid
BEGIN:DAYLIGHT
TZOFFSETFROM:+0100
TZOFFSETTO:+0200
TZNAME:CEST
DTSTART:20190331T010000
END:DAYLIGHT
BEGIN:STANDARD
TZOFFSETFROM:+0200
TZOFFSETTO:+0100
TZNAME:CET
DTSTART:20191027T010000
END:STANDARD
END:VTIMEZONE
BEGIN:VEVENT
DTSTART;TZID=Europe/Madrid:20190709T200000
DTEND;TZID=Europe/Madrid:20190709T200000
DTSTAMP:20260422T104242
CREATED:20190618T194833Z
LAST-MODIFIED:20190618T195124Z
UID:2728-1562702400-1562702400@www.asierpolo.com
SUMMARY:Recital
DESCRIPTION:Obras de Brahms\, Fauré y más. \nParticipan: Grupo de Cellos del Garda Lake Music Academy \nMás información
URL:https://www.asierpolo.com/evento/recital/
LOCATION:Auditorium di Padenghe\, Padenghe sul Garda\, Italia
ATTACH;FMTTYPE=image/jpeg:https://www.asierpolo.com/wp-content/uploads/2017/10/AP4.jpg
END:VEVENT
END:VCALENDAR