BEGIN:VCALENDAR
VERSION:2.0
PRODID:-//Asier Polo - ECPv5.8.1//NONSGML v1.0//EN
CALSCALE:GREGORIAN
METHOD:PUBLISH
X-WR-CALNAME:Asier Polo
X-ORIGINAL-URL:https://www.asierpolo.com
X-WR-CALDESC:Eventos para Asier Polo
BEGIN:VTIMEZONE
TZID:Europe/Madrid
BEGIN:DAYLIGHT
TZOFFSETFROM:+0100
TZOFFSETTO:+0200
TZNAME:CEST
DTSTART:20230326T010000
END:DAYLIGHT
BEGIN:STANDARD
TZOFFSETFROM:+0200
TZOFFSETTO:+0100
TZNAME:CET
DTSTART:20231029T010000
END:STANDARD
END:VTIMEZONE
BEGIN:VEVENT
DTSTART;TZID=Europe/Madrid:20230719T210000
DTEND;TZID=Europe/Madrid:20230719T210000
DTSTAMP:20260424T151919
CREATED:20230511T181319Z
LAST-MODIFIED:20230511T181458Z
UID:3868-1689800400-1689800400@www.asierpolo.com
SUMMARY:Recital. Ticino Musica Festival
DESCRIPTION:Obras de Paul Hindemith\, César Franck\, Enrique Granados\, Manuel de Falla y Gaspar Cassadó. \n  \nAsier Polo\, violonchelo \nRicardo Ali Álvarez\, piano \n  \nMás información y venta de entradas
URL:https://www.asierpolo.com/evento/recital-ticino-musica-festival/
LOCATION:Conservatorio della Svizzera italiana\, Via Soldino 9\, Lugano\, 6900\, Suiza
ATTACH;FMTTYPE=image/jpeg:https://www.asierpolo.com/wp-content/uploads/2017/10/AP4.jpg
END:VEVENT
END:VCALENDAR