BEGIN:VCALENDAR
VERSION:2.0
PRODID:-//Asier Polo - ECPv5.8.1//NONSGML v1.0//EN
CALSCALE:GREGORIAN
METHOD:PUBLISH
X-WR-CALNAME:Asier Polo
X-ORIGINAL-URL:https://www.asierpolo.com
X-WR-CALDESC:Eventos para Asier Polo
BEGIN:VTIMEZONE
TZID:Europe/Madrid
BEGIN:DAYLIGHT
TZOFFSETFROM:+0100
TZOFFSETTO:+0200
TZNAME:CEST
DTSTART:20200329T010000
END:DAYLIGHT
BEGIN:STANDARD
TZOFFSETFROM:+0200
TZOFFSETTO:+0100
TZNAME:CET
DTSTART:20201025T010000
END:STANDARD
END:VTIMEZONE
BEGIN:VEVENT
DTSTART;TZID=Europe/Madrid:20200702T193000
DTEND;TZID=Europe/Madrid:20200702T193000
DTSTAMP:20260425T163215
CREATED:20200603T180001Z
LAST-MODIFIED:20200603T180524Z
UID:3133-1593718200-1593718200@www.asierpolo.com
SUMMARY:Recital: Suites de Bach. Poema visual para un cello
DESCRIPTION:J. S. Bach: \nSuite para violonchelo nº2 en re menor\, BWV 1008 \nSuite para violonchelo nº3 en do mayor\, BWV 1009 \nSuite para violonchelo nº4 en mi bemol mayor\, BWV 1010 \n  \nAsier Polo\, violonchelo \nSergio Verde\, vídeo \nCalixto Bieito\, dirección escénica \nProducción: Teatro Arriaga \n  \nMás información y venta de entradas
URL:https://www.asierpolo.com/evento/recital-suites-de-bach-poema-visual-para-un-cello/
LOCATION:Teatro Arriaga\, Plaza Arriaga\, 1\, Bilbao\, 48005\, España
ATTACH;FMTTYPE=image/jpeg:https://www.asierpolo.com/wp-content/uploads/2016/09/AsierPolo2.jpg
END:VEVENT
END:VCALENDAR