BEGIN:VCALENDAR
VERSION:2.0
PRODID:-//Asier Polo - ECPv5.8.1//NONSGML v1.0//EN
CALSCALE:GREGORIAN
METHOD:PUBLISH
X-WR-CALNAME:Asier Polo
X-ORIGINAL-URL:https://www.asierpolo.com
X-WR-CALDESC:Eventos para Asier Polo
BEGIN:VTIMEZONE
TZID:Europe/Madrid
BEGIN:DAYLIGHT
TZOFFSETFROM:+0100
TZOFFSETTO:+0200
TZNAME:CEST
DTSTART:20180325T010000
END:DAYLIGHT
BEGIN:STANDARD
TZOFFSETFROM:+0200
TZOFFSETTO:+0100
TZNAME:CET
DTSTART:20181028T010000
END:STANDARD
END:VTIMEZONE
BEGIN:VEVENT
DTSTART;TZID=Europe/Madrid:20181114T200000
DTEND;TZID=Europe/Madrid:20181114T200000
DTSTAMP:20260420T042629
CREATED:20180918T200822Z
LAST-MODIFIED:20180918T200822Z
UID:2434-1542225600-1542225600@www.asierpolo.com
SUMMARY:Recital: Suites de Bach (II)
DESCRIPTION:J. S. Bach: Suites para violonchelo solo nº 3\, 2 y 6 (BWV 1009\, 1008\, 1012) \nAsier Polo\, violoncello – Artista en Residencia 2018 de la Fundación Baluarte \nMás información y venta de entradas
URL:https://www.asierpolo.com/evento/recital-suites-de-bach-ii/
LOCATION:Auditorio Baluarte\, Plaza del Baluarte\, s/n\, Pamplona\, 31002\, España
ATTACH;FMTTYPE=image/jpeg:https://www.asierpolo.com/wp-content/uploads/2016/03/NOA1930-1.jpg
END:VEVENT
END:VCALENDAR