BEGIN:VCALENDAR
VERSION:2.0
PRODID:-//Asier Polo - ECPv5.8.1//NONSGML v1.0//EN
CALSCALE:GREGORIAN
METHOD:PUBLISH
X-WR-CALNAME:Asier Polo
X-ORIGINAL-URL:https://www.asierpolo.com
X-WR-CALDESC:Eventos para Asier Polo
BEGIN:VTIMEZONE
TZID:Europe/Madrid
BEGIN:DAYLIGHT
TZOFFSETFROM:+0100
TZOFFSETTO:+0200
TZNAME:CEST
DTSTART:20180325T010000
END:DAYLIGHT
BEGIN:STANDARD
TZOFFSETFROM:+0200
TZOFFSETTO:+0100
TZNAME:CET
DTSTART:20181028T010000
END:STANDARD
END:VTIMEZONE
BEGIN:VEVENT
DTSTART;TZID=Europe/Madrid:20180915T180000
DTEND;TZID=Europe/Madrid:20180915T180000
DTSTAMP:20260420T093243
CREATED:20180705T211115Z
LAST-MODIFIED:20190618T202714Z
UID:2368-1537034400-1537034400@www.asierpolo.com
SUMMARY:Recital: Suites de Bach
DESCRIPTION:XXX edición ‘Conciertos en Ziortza / Ziortzako Konzertuak’ \nJ. S. Bach: Suites para violoncello solo nº 3\, 2 y 6 (BWV 1009\, 1008\, 1012) \nMás información
URL:https://www.asierpolo.com/evento/recital-suites-de-bach-2/
LOCATION:Colegiata de Zenarruza\, Ziortza-Bolibar\, Bizkaia\, 48278\, España
ATTACH;FMTTYPE=image/jpeg:https://www.asierpolo.com/wp-content/uploads/2015/08/Asier-Polo-1º-Mov.-Suite-per-violoncello-G.-Cassadó.jpg
END:VEVENT
END:VCALENDAR