BEGIN:VCALENDAR
VERSION:2.0
PRODID:-//Asier Polo - ECPv5.8.1//NONSGML v1.0//EN
CALSCALE:GREGORIAN
METHOD:PUBLISH
X-WR-CALNAME:Asier Polo
X-ORIGINAL-URL:https://www.asierpolo.com
X-WR-CALDESC:Eventos para Asier Polo
BEGIN:VTIMEZONE
TZID:Europe/Madrid
BEGIN:DAYLIGHT
TZOFFSETFROM:+0100
TZOFFSETTO:+0200
TZNAME:CEST
DTSTART:20190331T010000
END:DAYLIGHT
BEGIN:STANDARD
TZOFFSETFROM:+0200
TZOFFSETTO:+0100
TZNAME:CET
DTSTART:20191027T010000
END:STANDARD
END:VTIMEZONE
BEGIN:VEVENT
DTSTART;TZID=Europe/Madrid:20190427T203000
DTEND;TZID=Europe/Madrid:20190427T203000
DTSTAMP:20260424T110540
CREATED:20180919T181851Z
LAST-MODIFIED:20180919T182207Z
UID:2490-1556397000-1556397000@www.asierpolo.com
SUMMARY:Recital: Sonatas de Brahms
DESCRIPTION:I. \nJ. S. Bach: Sonata nº3 en sol menor\, BWV 1029 \nJ. Brahms: Sonata nº1 en mi menor\, Op.38 \nII. \nJ. Brahms: Sonata nº2 en fa mayor\, Op. 99 \n  \nAsier Polo\, violoncello \nEldar Nebolsin\, piano \nMás información y venta de entradas
URL:https://www.asierpolo.com/evento/recital-sonatas-de-brahms-2/
LOCATION:Auditorio Manuel de Falla\, Granada\, España
ATTACH;FMTTYPE=image/jpeg:https://www.asierpolo.com/wp-content/uploads/2018/09/asierpoloeldarnebolsin.jpg
END:VEVENT
END:VCALENDAR