BEGIN:VCALENDAR
VERSION:2.0
PRODID:-//Asier Polo - ECPv5.8.1//NONSGML v1.0//EN
CALSCALE:GREGORIAN
METHOD:PUBLISH
X-WR-CALNAME:Asier Polo
X-ORIGINAL-URL:https://www.asierpolo.com
X-WR-CALDESC:Eventos para Asier Polo
BEGIN:VTIMEZONE
TZID:Europe/Madrid
BEGIN:DAYLIGHT
TZOFFSETFROM:+0100
TZOFFSETTO:+0200
TZNAME:CEST
DTSTART:20200329T010000
END:DAYLIGHT
BEGIN:STANDARD
TZOFFSETFROM:+0200
TZOFFSETTO:+0100
TZNAME:CET
DTSTART:20201025T010000
END:STANDARD
END:VTIMEZONE
BEGIN:VEVENT
DTSTART;TZID=Europe/Madrid:20200320T193000
DTEND;TZID=Europe/Madrid:20200320T193000
DTSTAMP:20260425T145741
CREATED:20190919T193613Z
LAST-MODIFIED:20200315T211322Z
UID:2928-1584732600-1584732600@www.asierpolo.com
SUMMARY:Quantum Ensemble
DESCRIPTION:CONCIERTO CANCELADO \n  \nJ. S. Bach: Suite para violonchelo nº4 en mi bemol mayor\, BWV 1010 \nGustavo Trujillo: Kenotáphion\, para clarinete\, violín\, violonchelo y piano [estreno mundial] \nJ. Brahms: Trío para violín\, violonchelo y piano nº1 en si mayor\, op. 8 \n  \nAsier Polo\, violonchelo | Frederieke Saeijs\, violín | Gustavo Díaz Jerez\, piano | Cristo Barrios\, clarinete \n  \nMás información y venta de entradas \n  \n 
URL:https://www.asierpolo.com/evento/quantum-ensemble-2/
LOCATION:Auditorio de Tenerife\, Av de la Constitucion\, 1\, Santa Cruz de Tenerife\, 38003\, España
ATTACH;FMTTYPE=image/jpeg:https://www.asierpolo.com/wp-content/uploads/2019/09/Asier9779proviamix-copia.jpg
END:VEVENT
END:VCALENDAR