BEGIN:VCALENDAR
VERSION:2.0
PRODID:-//Asier Polo - ECPv5.8.1//NONSGML v1.0//EN
CALSCALE:GREGORIAN
METHOD:PUBLISH
X-WR-CALNAME:Asier Polo
X-ORIGINAL-URL:https://www.asierpolo.com
X-WR-CALDESC:Eventos para Asier Polo
BEGIN:VTIMEZONE
TZID:Europe/Madrid
BEGIN:DAYLIGHT
TZOFFSETFROM:+0100
TZOFFSETTO:+0200
TZNAME:CEST
DTSTART:20210328T010000
END:DAYLIGHT
BEGIN:STANDARD
TZOFFSETFROM:+0200
TZOFFSETTO:+0100
TZNAME:CET
DTSTART:20211031T010000
END:STANDARD
END:VTIMEZONE
BEGIN:VEVENT
DTSTART;TZID=Europe/Madrid:20210112T190000
DTEND;TZID=Europe/Madrid:20210112T190000
DTSTAMP:20260426T024429
CREATED:20210110T190131Z
LAST-MODIFIED:20210110T190845Z
UID:3331-1610478000-1610478000@www.asierpolo.com
SUMMARY:Presentación CD. "Bach: Cello Suites"
DESCRIPTION:Coloquio con: \nAsier Polo\, violonchelo \nCésar Coca\, periodista de El Correo \n  \nProyección sobre el proceso de grabación de Noah Shaye. \n  \nMás información y recogida de invitaciones
URL:https://www.asierpolo.com/evento/presentacion-cd-bach-cello-suites/
LOCATION:Sala BBK\, Gran Vía López de Haro 19-21\, Bilbao\, 48001\, España
ATTACH;FMTTYPE=image/png:https://www.asierpolo.com/wp-content/uploads/2021/01/PresentaciónBACHrrss.png
END:VEVENT
END:VCALENDAR