BEGIN:VCALENDAR
VERSION:2.0
PRODID:-//Asier Polo - ECPv5.8.1//NONSGML v1.0//EN
CALSCALE:GREGORIAN
METHOD:PUBLISH
X-WR-CALNAME:Asier Polo
X-ORIGINAL-URL:https://www.asierpolo.com
X-WR-CALDESC:Eventos para Asier Polo
BEGIN:VTIMEZONE
TZID:Europe/Madrid
BEGIN:DAYLIGHT
TZOFFSETFROM:+0100
TZOFFSETTO:+0200
TZNAME:CEST
DTSTART:20180325T010000
END:DAYLIGHT
BEGIN:STANDARD
TZOFFSETFROM:+0200
TZOFFSETTO:+0100
TZNAME:CET
DTSTART:20181028T010000
END:STANDARD
END:VTIMEZONE
BEGIN:VEVENT
DTSTART;TZID=Europe/Madrid:20180629T200000
DTEND;TZID=Europe/Madrid:20180629T220000
DTSTAMP:20260425T123712
CREATED:20180513T173710Z
LAST-MODIFIED:20180513T174019Z
UID:2188-1530302400-1530309600@www.asierpolo.com
SUMMARY:Orquesta Sinfónica Nacional de México
DESCRIPTION:M. Bruch: Kol Nidrei op. 47 \nO. Respighi: Adagio con variazioni. \nAsier Polo\, violoncello \nCarlos Miguel Prieto\, director \nOrquesta Sinfónica Nacional
URL:https://www.asierpolo.com/evento/orquesta-sinfonica-nacional-de-mexico-2/
LOCATION:Palacio de Bellas Artes\, Av. Juárez\, Centro Histórico\,\, Ciudad de México\, 06050\, México
ATTACH;FMTTYPE=image/jpeg:https://www.asierpolo.com/wp-content/uploads/2017/10/AP4.jpg
END:VEVENT
END:VCALENDAR