BEGIN:VCALENDAR
VERSION:2.0
PRODID:-//Asier Polo - ECPv5.8.1//NONSGML v1.0//EN
CALSCALE:GREGORIAN
METHOD:PUBLISH
X-WR-CALNAME:Asier Polo
X-ORIGINAL-URL:https://www.asierpolo.com
X-WR-CALDESC:Eventos para Asier Polo
BEGIN:VTIMEZONE
TZID:Europe/Madrid
BEGIN:DAYLIGHT
TZOFFSETFROM:+0100
TZOFFSETTO:+0200
TZNAME:CEST
DTSTART:20230326T010000
END:DAYLIGHT
BEGIN:STANDARD
TZOFFSETFROM:+0200
TZOFFSETTO:+0100
TZNAME:CET
DTSTART:20231029T010000
END:STANDARD
END:VTIMEZONE
BEGIN:VEVENT
DTSTART;TZID=Europe/Madrid:20231130T193000
DTEND;TZID=Europe/Madrid:20231130T193000
DTSTAMP:20260423T004804
CREATED:20230512T164519Z
LAST-MODIFIED:20230512T164756Z
UID:3901-1701372600-1701372600@www.asierpolo.com
SUMMARY:Orquesta Sinfónica Nacional de Colombia
DESCRIPTION:P. I. Chaikovski: Variaciones sobre un tema rococó\, op. 33 \nM. Bruch: Kol Nidrei\, op. 47 \n  \nAsier Polo\, violonchelo \nCarl St. Clair\, director \nOrquesta Sinfónica Nacional de Colombia \n  \nMás información y venta de entradas
URL:https://www.asierpolo.com/evento/orquesta-sinfonica-nacional-de-colombia/
LOCATION:Teatro Colón\, Calle 10 No. 5 -32\, Bogotá\, Colombia
ATTACH;FMTTYPE=image/jpeg:https://www.asierpolo.com/wp-content/uploads/2021/01/AsierPolo9779ml©NoahShaye.jpg
END:VEVENT
END:VCALENDAR