BEGIN:VCALENDAR
VERSION:2.0
PRODID:-//Asier Polo - ECPv5.8.1//NONSGML v1.0//EN
CALSCALE:GREGORIAN
METHOD:PUBLISH
X-WR-CALNAME:Asier Polo
X-ORIGINAL-URL:https://www.asierpolo.com
X-WR-CALDESC:Eventos para Asier Polo
BEGIN:VTIMEZONE
TZID:Europe/Madrid
BEGIN:DAYLIGHT
TZOFFSETFROM:+0100
TZOFFSETTO:+0200
TZNAME:CEST
DTSTART:20190331T010000
END:DAYLIGHT
BEGIN:STANDARD
TZOFFSETFROM:+0200
TZOFFSETTO:+0100
TZNAME:CET
DTSTART:20191027T010000
END:STANDARD
END:VTIMEZONE
BEGIN:VEVENT
DTSTART;TZID=Europe/Madrid:20190516T200000
DTEND;TZID=Europe/Madrid:20190516T200000
DTSTAMP:20260420T042450
CREATED:20180919T184245Z
LAST-MODIFIED:20180919T184811Z
UID:2497-1558036800-1558036800@www.asierpolo.com
SUMMARY:Orquesta Sinfónica de Navarra
DESCRIPTION:Fernando Velázquez: Concierto para violonchelo y orquesta\n(Obra encargo de la OSN. Estreno mundial) \n  \nAsier Polo\, violoncello – Artista en Residencia 2018/19 de la Fundación Baluarte \nPablo González\, director \nOrquesta Sinfónica de Navarra \nMás información y venta de entradas
URL:https://www.asierpolo.com/evento/orquesta-sinfonica-de-navarra-4/
LOCATION:Auditorio Baluarte\, Plaza del Baluarte\, s/n\, Pamplona\, 31002\, España
ATTACH;FMTTYPE=image/jpeg:https://www.asierpolo.com/wp-content/uploads/2016/09/AsierPolo1.jpg
END:VEVENT
END:VCALENDAR