BEGIN:VCALENDAR
VERSION:2.0
PRODID:-//Asier Polo - ECPv5.8.1//NONSGML v1.0//EN
CALSCALE:GREGORIAN
METHOD:PUBLISH
X-WR-CALNAME:Asier Polo
X-ORIGINAL-URL:https://www.asierpolo.com
X-WR-CALDESC:Eventos para Asier Polo
BEGIN:VTIMEZONE
TZID:Europe/Madrid
BEGIN:DAYLIGHT
TZOFFSETFROM:+0100
TZOFFSETTO:+0200
TZNAME:CEST
DTSTART:20180325T010000
END:DAYLIGHT
BEGIN:STANDARD
TZOFFSETFROM:+0200
TZOFFSETTO:+0100
TZNAME:CET
DTSTART:20181028T010000
END:STANDARD
END:VTIMEZONE
BEGIN:VEVENT
DTSTART;TZID=Europe/Madrid:20180628T203000
DTEND;TZID=Europe/Madrid:20180628T223000
DTSTAMP:20260425T142833
CREATED:20180513T170347Z
LAST-MODIFIED:20180513T170742Z
UID:2183-1530217800-1530225000@www.asierpolo.com
SUMMARY:Orquesta Sinfónica de Minería
DESCRIPTION:Boccherini: Concierto para violoncello en Re Mayor\, G. 479 \nAsier Polo\, violoncello \nCarlos Miguel Prieto\, director \nOrquesta Sinfónica de Minería \n \nEn el marco de los festejos conmemorativos por sus 40 años\, la Orquesta Sinfónica de Minería ofrece al público el Festival Mozart Haydn en el Centro Cultural Roberto Cantoral. Se presenta una programación de la más alta calidad\, incluyendo obras de los compositores Mozart y Haydn que han constituido puntos de referencia importantes en la historia de la música occidental. La dirección estará a cargo del maestro Carlos Miguel Prieto. Los solistas invitados son Jorge Federico Osorio\, piano; Shari Mason\, violín; Roberto Díaz\, viola y Asier Polo\, cello.
URL:https://www.asierpolo.com/evento/orquesta-sinfonica-de-mineria-4/
LOCATION:Centro Cultural Roberto Cantoral\, Calle Puente Xoco S/N Puerta A\, Ciudad de México\, 03330\, México
ATTACH;FMTTYPE=image/jpeg:https://www.asierpolo.com/wp-content/uploads/2016/09/AsierPolo2.jpg
END:VEVENT
END:VCALENDAR