BEGIN:VCALENDAR
VERSION:2.0
PRODID:-//Asier Polo - ECPv5.8.1//NONSGML v1.0//EN
CALSCALE:GREGORIAN
METHOD:PUBLISH
X-WR-CALNAME:Asier Polo
X-ORIGINAL-URL:https://www.asierpolo.com
X-WR-CALDESC:Eventos para Asier Polo
BEGIN:VTIMEZONE
TZID:Europe/Madrid
BEGIN:DAYLIGHT
TZOFFSETFROM:+0100
TZOFFSETTO:+0200
TZNAME:CEST
DTSTART:20220327T010000
END:DAYLIGHT
BEGIN:STANDARD
TZOFFSETFROM:+0200
TZOFFSETTO:+0100
TZNAME:CET
DTSTART:20221030T010000
END:STANDARD
END:VTIMEZONE
BEGIN:VEVENT
DTSTART;TZID=Europe/Madrid:20220218T200000
DTEND;TZID=Europe/Madrid:20220218T200000
DTSTAMP:20260425T211825
CREATED:20210922T134946Z
LAST-MODIFIED:20210922T140306Z
UID:3704-1645214400-1645214400@www.asierpolo.com
SUMMARY:Orquesta Sinfónica de Galicia
DESCRIPTION:J. Brahms: Doble concierto en la menor\, op. 102 \n  \nAsier Polo\, violonchelo \nClara Jumi-Kang\, violín \nJuanjo Mena\, director \nOrquesta Sinfónica de Galicia \n  \nMás información y venta de entradas
URL:https://www.asierpolo.com/evento/orquesta-sinfonica-de-galicia-4/
LOCATION:Auditorio Príncipe Felipe\, Plaza del Fresno\, s/n\, Oviedo\, 33007\, España
ATTACH;FMTTYPE=image/jpeg:https://www.asierpolo.com/wp-content/uploads/2016/09/AsierPolo1.jpg
END:VEVENT
END:VCALENDAR