BEGIN:VCALENDAR
VERSION:2.0
PRODID:-//Asier Polo - ECPv5.8.1//NONSGML v1.0//EN
CALSCALE:GREGORIAN
METHOD:PUBLISH
X-WR-CALNAME:Asier Polo
X-ORIGINAL-URL:https://www.asierpolo.com
X-WR-CALDESC:Eventos para Asier Polo
BEGIN:VTIMEZONE
TZID:Europe/Madrid
BEGIN:DAYLIGHT
TZOFFSETFROM:+0100
TZOFFSETTO:+0200
TZNAME:CEST
DTSTART:20190331T010000
END:DAYLIGHT
BEGIN:STANDARD
TZOFFSETFROM:+0200
TZOFFSETTO:+0100
TZNAME:CET
DTSTART:20191027T010000
END:STANDARD
END:VTIMEZONE
BEGIN:VEVENT
DTSTART;TZID=Europe/Madrid:20190125T200000
DTEND;TZID=Europe/Madrid:20190125T200000
DTSTAMP:20260420T060628
CREATED:20180919T170136Z
LAST-MODIFIED:20180919T170136Z
UID:2471-1548446400-1548446400@www.asierpolo.com
SUMMARY:Orquesta Sinfónica de Castilla y León
DESCRIPTION:Alberto Ginastera: Concierto para violonchelo nº2\, Op. 50 \n  \nAsier Polo\, violoncello \nCarlos Miguel Prieto\, director \nOrquesta Sinfónica de Castilla y León \nMás información y venta de entradas
URL:https://www.asierpolo.com/evento/orquesta-sinfonica-de-castilla-y-leon-2/
LOCATION:Auditorio Miguel Delibes\, Av. del Real Valladolid\, 2\, Valladolid\, 47015\, España
ATTACH;FMTTYPE=image/jpeg:https://www.asierpolo.com/wp-content/uploads/2018/09/AsierPolo_PabloAxpe-Print07.jpg
END:VEVENT
END:VCALENDAR