BEGIN:VCALENDAR
VERSION:2.0
PRODID:-//Asier Polo - ECPv5.8.1//NONSGML v1.0//EN
CALSCALE:GREGORIAN
METHOD:PUBLISH
X-WR-CALNAME:Asier Polo
X-ORIGINAL-URL:https://www.asierpolo.com
X-WR-CALDESC:Eventos para Asier Polo
BEGIN:VTIMEZONE
TZID:Europe/Madrid
BEGIN:DAYLIGHT
TZOFFSETFROM:+0100
TZOFFSETTO:+0200
TZNAME:CEST
DTSTART:20190331T010000
END:DAYLIGHT
BEGIN:STANDARD
TZOFFSETFROM:+0200
TZOFFSETTO:+0100
TZNAME:CET
DTSTART:20191027T010000
END:STANDARD
END:VTIMEZONE
BEGIN:VEVENT
DTSTART;TZID=Europe/Madrid:20191221T193000
DTEND;TZID=Europe/Madrid:20191221T193000
DTSTAMP:20260423T103912
CREATED:20190917T222443Z
LAST-MODIFIED:20190917T222443Z
UID:2856-1576956600-1576956600@www.asierpolo.com
SUMMARY:Orquesta Nacional de España
DESCRIPTION:E. Elgar: Concierto para violonchelo en mi menor\, op. 85 \n  \nAsier Polo\, violonchelo \nJuanjo Mena\, director \nOrquesta Nacional de España \n  \nMás información y venta de entradas
URL:https://www.asierpolo.com/evento/orquesta-nacional-de-espana-2/
LOCATION:Auditorio Nacional de Música\, C/ Príncipe de Vergara\, 146\, Madrid\, 28002\, España
ATTACH;FMTTYPE=image/jpeg:https://www.asierpolo.com/wp-content/uploads/2019/09/NCS9793-copia.jpg
END:VEVENT
END:VCALENDAR