BEGIN:VCALENDAR
VERSION:2.0
PRODID:-//Asier Polo - ECPv5.8.1//NONSGML v1.0//EN
CALSCALE:GREGORIAN
METHOD:PUBLISH
X-WR-CALNAME:Asier Polo
X-ORIGINAL-URL:https://www.asierpolo.com
X-WR-CALDESC:Eventos para Asier Polo
BEGIN:VTIMEZONE
TZID:Europe/Madrid
BEGIN:DAYLIGHT
TZOFFSETFROM:+0100
TZOFFSETTO:+0200
TZNAME:CEST
DTSTART:20230326T010000
END:DAYLIGHT
BEGIN:STANDARD
TZOFFSETFROM:+0200
TZOFFSETTO:+0100
TZNAME:CET
DTSTART:20231029T010000
END:STANDARD
END:VTIMEZONE
BEGIN:VEVENT
DTSTART;TZID=Europe/Madrid:20230209T193000
DTEND;TZID=Europe/Madrid:20230209T193000
DTSTAMP:20260425T174725
CREATED:20220906T154013Z
LAST-MODIFIED:20220906T154013Z
UID:3791-1675971000-1675971000@www.asierpolo.com
SUMMARY:Orquesta de València
DESCRIPTION:E. Elgar: Concierto para violonchelo en mi menor\, op. 85 \n  \nAsier Polo\, violonchelo \nPinchas Steinberg\, director \nOrquesta de València \n  \nMás información y venta de entradas
URL:https://www.asierpolo.com/evento/orquesta-de-valencia/
LOCATION:Teatro Principal de Valencia\, Carrer de les Barques\, 15\, València\, 46001\, España
ATTACH;FMTTYPE=image/jpeg:https://www.asierpolo.com/wp-content/uploads/2021/01/AsierPolo9553©NoahShaye.jpg
END:VEVENT
END:VCALENDAR