BEGIN:VCALENDAR
VERSION:2.0
PRODID:-//Asier Polo - ECPv5.8.1//NONSGML v1.0//EN
CALSCALE:GREGORIAN
METHOD:PUBLISH
X-WR-CALNAME:Asier Polo
X-ORIGINAL-URL:https://www.asierpolo.com
X-WR-CALDESC:Eventos para Asier Polo
BEGIN:VTIMEZONE
TZID:Europe/Madrid
BEGIN:DAYLIGHT
TZOFFSETFROM:+0100
TZOFFSETTO:+0200
TZNAME:CEST
DTSTART:20210328T010000
END:DAYLIGHT
BEGIN:STANDARD
TZOFFSETFROM:+0200
TZOFFSETTO:+0100
TZNAME:CET
DTSTART:20211031T010000
END:STANDARD
END:VTIMEZONE
BEGIN:VEVENT
DTSTART;TZID=Europe/Madrid:20210319T193000
DTEND;TZID=Europe/Madrid:20210319T193000
DTSTAMP:20260426T005027
CREATED:20200829T112406Z
LAST-MODIFIED:20210225T180358Z
UID:3203-1616182200-1616182200@www.asierpolo.com
SUMMARY:Orquesta de Extremadura
DESCRIPTION:F. J. Haydn: Concierto para violonchelo y orquesta nº 1 en do mayor\, Hob. VII B1 \n  \nAsier Polo\, violonchelo \nAndrés Salado\, director \nOrquesta de Extremadura \n  \nMás información y venta de entradas
URL:https://www.asierpolo.com/evento/orquesta-de-extremadura-4/
LOCATION:Palacio de Congresos de Plasencia\, Calle Luis Vélez de Guevara\, 3\, Plasencia\, Extremadura\, 10600\, España
ATTACH;FMTTYPE=image/jpeg:https://www.asierpolo.com/wp-content/uploads/2020/08/A_PalacioCongresosPlasencia.jpg
END:VEVENT
END:VCALENDAR