BEGIN:VCALENDAR
VERSION:2.0
PRODID:-//Asier Polo - ECPv5.8.1//NONSGML v1.0//EN
CALSCALE:GREGORIAN
METHOD:PUBLISH
X-WR-CALNAME:Asier Polo
X-ORIGINAL-URL:https://www.asierpolo.com
X-WR-CALDESC:Eventos para Asier Polo
BEGIN:VTIMEZONE
TZID:Europe/Madrid
BEGIN:DAYLIGHT
TZOFFSETFROM:+0100
TZOFFSETTO:+0200
TZNAME:CEST
DTSTART:20250330T010000
END:DAYLIGHT
BEGIN:STANDARD
TZOFFSETFROM:+0200
TZOFFSETTO:+0100
TZNAME:CET
DTSTART:20251026T010000
END:STANDARD
END:VTIMEZONE
BEGIN:VEVENT
DTSTART;TZID=Europe/Madrid:20250216T173000
DTEND;TZID=Europe/Madrid:20250216T173000
DTSTAMP:20260422T122339
CREATED:20250109T161326Z
LAST-MODIFIED:20250109T161326Z
UID:4085-1739727000-1739727000@www.asierpolo.com
SUMMARY:Orchestra Le Nove
DESCRIPTION:“Progetto Brahms” \n  \nJ. Brahms: Doble concierto para violín\, violonchelo y orquesta en la menor\, op. 102 \n  \nValerie Steenken\, violín \nAsier Polo\, violonchelo \nYuram Ruiz\, director \nOrchestra Le Nove \n  \nMás información
URL:https://www.asierpolo.com/evento/orchestra-le-nove/
LOCATION:Chiesa di San Francesco\, Via Cittadella 20\, Locarno\, 6600\, Suiza
ATTACH;FMTTYPE=image/jpeg:https://www.asierpolo.com/wp-content/uploads/2025/01/le_nove.jpg
END:VEVENT
END:VCALENDAR