BEGIN:VCALENDAR
VERSION:2.0
PRODID:-//Asier Polo - ECPv5.8.1//NONSGML v1.0//EN
CALSCALE:GREGORIAN
METHOD:PUBLISH
X-WR-CALNAME:Asier Polo
X-ORIGINAL-URL:https://www.asierpolo.com
X-WR-CALDESC:Eventos para Asier Polo
BEGIN:VTIMEZONE
TZID:Europe/Madrid
BEGIN:DAYLIGHT
TZOFFSETFROM:+0100
TZOFFSETTO:+0200
TZNAME:CEST
DTSTART:20240331T010000
END:DAYLIGHT
BEGIN:STANDARD
TZOFFSETFROM:+0200
TZOFFSETTO:+0100
TZNAME:CET
DTSTART:20241027T010000
END:STANDARD
END:VTIMEZONE
BEGIN:VEVENT
DTSTART;TZID=Europe/Madrid:20240308T203000
DTEND;TZID=Europe/Madrid:20240308T203000
DTSTAMP:20260423T081858
CREATED:20231203T173323Z
LAST-MODIFIED:20231203T174933Z
UID:3959-1709929800-1709929800@www.asierpolo.com
SUMMARY:Orchestra da camera del CSI
DESCRIPTION:Concierto de apertura del Conservatorio in Festival 2024 \n  \nJ. Haydn: Concierto para violonchelo nº1 en do mayor\, Hob. VIIb:1 \n  \nAsier Polo\, violonchelo \nAlessandro Moccia\, concertino director \n  \nMás información
URL:https://www.asierpolo.com/evento/orchestra-da-camera-del-csi/
LOCATION:Auditorio Stelio Molo della Radio Svizzera Italiana (RSI)\, Via Guglielmo Canevascini 3\, Lugano\, 6900\, Suiza
ATTACH;FMTTYPE=image/jpeg:https://www.asierpolo.com/wp-content/uploads/2019/09/NCS9553.jpg
END:VEVENT
END:VCALENDAR