BEGIN:VCALENDAR
VERSION:2.0
PRODID:-//Asier Polo - ECPv5.8.1//NONSGML v1.0//EN
CALSCALE:GREGORIAN
METHOD:PUBLISH
X-WR-CALNAME:Asier Polo
X-ORIGINAL-URL:https://www.asierpolo.com
X-WR-CALDESC:Eventos para Asier Polo
BEGIN:VTIMEZONE
TZID:Europe/Madrid
BEGIN:DAYLIGHT
TZOFFSETFROM:+0100
TZOFFSETTO:+0200
TZNAME:CEST
DTSTART:20240331T010000
END:DAYLIGHT
BEGIN:STANDARD
TZOFFSETFROM:+0200
TZOFFSETTO:+0100
TZNAME:CET
DTSTART:20241027T010000
END:STANDARD
END:VTIMEZONE
BEGIN:VEVENT
DTSTART;TZID=Europe/Madrid:20240309T203000
DTEND;TZID=Europe/Madrid:20240309T203000
DTSTAMP:20260423T101357
CREATED:20231203T174410Z
LAST-MODIFIED:20231203T174826Z
UID:3966-1710016200-1710016200@www.asierpolo.com
SUMMARY:Orchestra da camera del CSI
DESCRIPTION:Conservatorio in Festival 2024 \n  \nJ. Haydn: Concierto para violonchelo nº1 en do mayor\, Hob. VIIb:1 \n  \nAsier Polo\, violonchelo \nAlessandro Moccia\, concertino director \n  \nMás información
URL:https://www.asierpolo.com/evento/orchestra-da-camera-del-csi-2/
LOCATION:Chiesa del Collegio Papio\, Via delle Cappelle 1\, Ascona\, 6612\, Suiza
ATTACH;FMTTYPE=image/jpeg:https://www.asierpolo.com/wp-content/uploads/2021/01/Asier0156©NoahShaye.jpg
END:VEVENT
END:VCALENDAR