BEGIN:VCALENDAR
VERSION:2.0
PRODID:-//Asier Polo - ECPv5.8.1//NONSGML v1.0//EN
CALSCALE:GREGORIAN
METHOD:PUBLISH
X-WR-CALNAME:Asier Polo
X-ORIGINAL-URL:https://www.asierpolo.com
X-WR-CALDESC:Eventos para Asier Polo
BEGIN:VTIMEZONE
TZID:Europe/Madrid
BEGIN:DAYLIGHT
TZOFFSETFROM:+0100
TZOFFSETTO:+0200
TZNAME:CEST
DTSTART:20230326T010000
END:DAYLIGHT
BEGIN:STANDARD
TZOFFSETFROM:+0200
TZOFFSETTO:+0100
TZNAME:CET
DTSTART:20231029T010000
END:STANDARD
END:VTIMEZONE
BEGIN:VEVENT
DTSTART;TZID=Europe/Madrid:20231103T203000
DTEND;TZID=Europe/Madrid:20231103T203000
DTSTAMP:20260422T225847
CREATED:20230512T010604Z
LAST-MODIFIED:20230512T010604Z
UID:3895-1699043400-1699043400@www.asierpolo.com
SUMMARY:Música de cámara. LuganoMusica Ensemble
DESCRIPTION:Obras de L. van Beethoven y A. Schoenberg. \n  \nAsier Polo junto a Robert Kowalski\, Danilo Rossi\, Enrico Dindo… \n  \nMás información y venta de entradas
URL:https://www.asierpolo.com/evento/musica-de-camara-luganomusica-ensemble-2/
LOCATION:LAC Lugano Arte e Cultura\, Piazza Bernardino Luini\, 6\, Lugano\, 6900\, Suiza
ATTACH;FMTTYPE=image/jpeg:https://www.asierpolo.com/wp-content/uploads/2023/05/1-ASIER-POLO115-copia-scaled.jpg
END:VEVENT
END:VCALENDAR