BEGIN:VCALENDAR
VERSION:2.0
PRODID:-//Asier Polo - ECPv5.8.1//NONSGML v1.0//EN
CALSCALE:GREGORIAN
METHOD:PUBLISH
X-WR-CALNAME:Asier Polo
X-ORIGINAL-URL:https://www.asierpolo.com
X-WR-CALDESC:Eventos para Asier Polo
BEGIN:VTIMEZONE
TZID:Europe/Madrid
BEGIN:DAYLIGHT
TZOFFSETFROM:+0100
TZOFFSETTO:+0200
TZNAME:CEST
DTSTART:20210328T010000
END:DAYLIGHT
BEGIN:STANDARD
TZOFFSETFROM:+0200
TZOFFSETTO:+0100
TZNAME:CET
DTSTART:20211031T010000
END:STANDARD
END:VTIMEZONE
BEGIN:VEVENT
DTSTART;TZID=Europe/Madrid:20211105T203000
DTEND;TZID=Europe/Madrid:20211105T203000
DTSTAMP:20260425T230818
CREATED:20200829T105315Z
LAST-MODIFIED:20210622T091412Z
UID:3195-1636144200-1636144200@www.asierpolo.com
SUMMARY:Música de cámara. LuganoMusica Ensemble
DESCRIPTION:Obras de Bach\, Chopin\, Liszt\, Hindemith. \n  \nAsier Polo\, violonchelo \nLeonardo Bartelloni\, piano \nDanilo Rossi\, viola \n  \nMás información y venta de entradas
URL:https://www.asierpolo.com/evento/musica-de-camara-le-avanguardie-del-novecento/
LOCATION:LAC Lugano Arte e Cultura\, Piazza Bernardino Luini\, 6\, Lugano\, 6900\, Suiza
ATTACH;FMTTYPE=image/jpeg:https://www.asierpolo.com/wp-content/uploads/2019/09/AsierPolo.MaximRisanov.GustavoDiazJerez.jpg
END:VEVENT
END:VCALENDAR