BEGIN:VCALENDAR
VERSION:2.0
PRODID:-//Asier Polo - ECPv5.8.1//NONSGML v1.0//EN
CALSCALE:GREGORIAN
METHOD:PUBLISH
X-WR-CALNAME:Asier Polo
X-ORIGINAL-URL:https://www.asierpolo.com
X-WR-CALDESC:Eventos para Asier Polo
BEGIN:VTIMEZONE
TZID:Europe/Madrid
BEGIN:DAYLIGHT
TZOFFSETFROM:+0100
TZOFFSETTO:+0200
TZNAME:CEST
DTSTART:20250330T010000
END:DAYLIGHT
BEGIN:STANDARD
TZOFFSETFROM:+0200
TZOFFSETTO:+0100
TZNAME:CET
DTSTART:20251026T010000
END:STANDARD
END:VTIMEZONE
BEGIN:VEVENT
DTSTART;TZID=Europe/Madrid:20250512T210000
DTEND;TZID=Europe/Madrid:20250512T210000
DTSTAMP:20260420T130347
CREATED:20250109T171601Z
LAST-MODIFIED:20250313T195750Z
UID:4099-1747083600-1747083600@www.asierpolo.com
SUMMARY:Stagione da camera del Collegio Borromeo. I Solisti di Pavia
DESCRIPTION:J. Brahms: Sexteto para cuerdas n.1 en Si b Mayor\, op.18 \nP.I. Tchaikovsky: Sexteto para cuerdas en re menor “Souvenir de Florence”\, op.70 \n  \nI Solisti di Pavia: \nMassimo Quarta\, violín \nRoberto Righetti\, violín \nLuca Ranieri\, viola \nRiccardo Savinelli\, viola \nEnrico Dindo\, violonchelo \nAsier Polo\, violonchelo \n  \nMás información
URL:https://www.asierpolo.com/evento/musica-de-camara-i-solisti-di-pavia/
LOCATION:Sala degli Affreschi dell’Almo Collegio Borromeo\, Piazza del Collegio Borromeo\, 9\, Pavia\, Lombardia\, 27100\, Italia
ATTACH;FMTTYPE=image/jpeg:https://www.asierpolo.com/wp-content/uploads/2025/01/Stagione-musicale-ACB-scaled-1.jpg
END:VEVENT
END:VCALENDAR