BEGIN:VCALENDAR
VERSION:2.0
PRODID:-//Asier Polo - ECPv5.8.1//NONSGML v1.0//EN
CALSCALE:GREGORIAN
METHOD:PUBLISH
X-WR-CALNAME:Asier Polo
X-ORIGINAL-URL:https://www.asierpolo.com
X-WR-CALDESC:Eventos para Asier Polo
BEGIN:VTIMEZONE
TZID:Europe/Madrid
BEGIN:DAYLIGHT
TZOFFSETFROM:+0100
TZOFFSETTO:+0200
TZNAME:CEST
DTSTART:20180325T010000
END:DAYLIGHT
BEGIN:STANDARD
TZOFFSETFROM:+0200
TZOFFSETTO:+0100
TZNAME:CET
DTSTART:20181028T010000
END:STANDARD
END:VTIMEZONE
BEGIN:VEVENT
DTSTART;VALUE=DATE:20180909
DTEND;VALUE=DATE:20180914
DTSTAMP:20260422T122426
CREATED:20180705T203342Z
LAST-MODIFIED:20180705T203423Z
UID:2359-1536451200-1536883199@www.asierpolo.com
SUMMARY:Masterclass: Garda Lake Music Academy
DESCRIPTION:Más información
URL:https://www.asierpolo.com/evento/masterclass-garda-lake-music-academy/
LOCATION:Padenghe sul Garda\, Brescia\, 25080\, Italia
ATTACH;FMTTYPE=image/png:https://www.asierpolo.com/wp-content/uploads/2018/07/IMG_4362.png
END:VEVENT
END:VCALENDAR