BEGIN:VCALENDAR
VERSION:2.0
PRODID:-//Asier Polo - ECPv5.8.1//NONSGML v1.0//EN
CALSCALE:GREGORIAN
METHOD:PUBLISH
X-WR-CALNAME:Asier Polo
X-ORIGINAL-URL:https://www.asierpolo.com
X-WR-CALDESC:Eventos para Asier Polo
BEGIN:VTIMEZONE
TZID:Europe/Madrid
BEGIN:DAYLIGHT
TZOFFSETFROM:+0100
TZOFFSETTO:+0200
TZNAME:CEST
DTSTART:20180325T010000
END:DAYLIGHT
BEGIN:STANDARD
TZOFFSETFROM:+0200
TZOFFSETTO:+0100
TZNAME:CET
DTSTART:20181028T010000
END:STANDARD
END:VTIMEZONE
BEGIN:VEVENT
DTSTART;TZID=Europe/Madrid:20180802T190000
DTEND;TZID=Europe/Madrid:20180802T190000
DTSTAMP:20260423T063153
CREATED:20180630T232342Z
LAST-MODIFIED:20180630T232342Z
UID:2267-1533236400-1533236400@www.asierpolo.com
SUMMARY:Joven Orquesta Nacional de España
DESCRIPTION:Festivalul International “Enescu si muzica lumii” – Sinaia (Rumanía)\nStrauss: ‘Don Quixote’\, Op.35 \nAsier Polo\, violonchelo \nPablo González\, director \nJoven Orquesta Nacional de España (JONDE) \nMás información
URL:https://www.asierpolo.com/evento/joven-orquesta-nacional-de-espana-sinaia/
LOCATION:Casino Sinaia\, Bulevardul Carol I nr.2\, Sinaia\, 106100\, Rumania
ATTACH;FMTTYPE=image/jpeg:https://www.asierpolo.com/wp-content/uploads/2016/09/AsierPolo4.jpg
END:VEVENT
END:VCALENDAR