BEGIN:VCALENDAR
VERSION:2.0
PRODID:-//Asier Polo - ECPv5.8.1//NONSGML v1.0//EN
CALSCALE:GREGORIAN
METHOD:PUBLISH
X-WR-CALNAME:Asier Polo
X-ORIGINAL-URL:https://www.asierpolo.com
X-WR-CALDESC:Eventos para Asier Polo
BEGIN:VTIMEZONE
TZID:Europe/Madrid
BEGIN:DAYLIGHT
TZOFFSETFROM:+0100
TZOFFSETTO:+0200
TZNAME:CEST
DTSTART:20240331T010000
END:DAYLIGHT
BEGIN:STANDARD
TZOFFSETFROM:+0200
TZOFFSETTO:+0100
TZNAME:CET
DTSTART:20241027T010000
END:STANDARD
END:VTIMEZONE
BEGIN:VEVENT
DTSTART;TZID=Europe/Madrid:20240913T200000
DTEND;TZID=Europe/Madrid:20240913T200000
DTSTAMP:20260420T225125
CREATED:20240818T180541Z
LAST-MODIFIED:20240818T183359Z
UID:4018-1726257600-1726257600@www.asierpolo.com
SUMMARY:Festival de Música Antonio de Cabezón
DESCRIPTION:“Polos opuestos\, el barroco Norte-Sur” \n  \nA. Vivaldi: Concierto para cuerdas en sol mayor “Alla rustica”\, Rv 151; Concierto para cello en do menor\, RV 401; Concierto para 2 violines y cello en re menor\, RV 565 \nJ. A. Hasse: Sinfonía para cuerdas en sol menor\, op. 5 nº 6 \nC. P. E. Bach: Concierto para violonchelo y cuerda en la mayor\, WQ 172 \n  \nAsier Polo\, violonchelo \nPedro Gandía\, director \nPropitia Sydera\, orquesta barroca \n  \nMás información y venta de entradas
URL:https://www.asierpolo.com/evento/festival-de-musica-antonio-de-cabezon/
LOCATION:Capilla de Música del Convento de las Bernardas\, Sala Salvador Vega\, Plaza San Juan s/n\, Burgos\, 09003\, España
ATTACH;FMTTYPE=image/jpeg:https://www.asierpolo.com/wp-content/uploads/2021/01/AsierPolo9553©NoahShaye.jpg
END:VEVENT
END:VCALENDAR