BEGIN:VCALENDAR
VERSION:2.0
PRODID:-//Asier Polo - ECPv5.8.1//NONSGML v1.0//EN
CALSCALE:GREGORIAN
METHOD:PUBLISH
X-WR-CALNAME:Asier Polo
X-ORIGINAL-URL:https://www.asierpolo.com
X-WR-CALDESC:Eventos para Asier Polo
BEGIN:VTIMEZONE
TZID:Europe/Madrid
BEGIN:DAYLIGHT
TZOFFSETFROM:+0100
TZOFFSETTO:+0200
TZNAME:CEST
DTSTART:20260329T010000
END:DAYLIGHT
BEGIN:STANDARD
TZOFFSETFROM:+0200
TZOFFSETTO:+0100
TZNAME:CET
DTSTART:20261025T010000
END:STANDARD
END:VTIMEZONE
BEGIN:VEVENT
DTSTART;VALUE=DATE:20260719
DTEND;VALUE=DATE:20260801
DTSTAMP:20260422T104812
CREATED:20260203T005622Z
LAST-MODIFIED:20260203T005622Z
UID:4317-1784419200-1785542399@www.asierpolo.com
SUMMARY:Clases magistrales. Ticino Musica Festival
DESCRIPTION:Ticino Musica Festival \nClases magistrales y conciertos \n  \nMás información e inscripciones
URL:https://www.asierpolo.com/evento/clases-magistrales-ticino-musica-festival-4/
LOCATION:Ticino Musica Festival\, c/o CSI\, Via Soldino 9\, Lugano\, Suiza
ATTACH;FMTTYPE=image/jpeg:https://www.asierpolo.com/wp-content/uploads/2025/02/IMG_3690.jpg
END:VEVENT
END:VCALENDAR