BEGIN:VCALENDAR
VERSION:2.0
PRODID:-//Asier Polo - ECPv5.8.1//NONSGML v1.0//EN
CALSCALE:GREGORIAN
METHOD:PUBLISH
X-WR-CALNAME:Asier Polo
X-ORIGINAL-URL:https://www.asierpolo.com
X-WR-CALDESC:Eventos para Asier Polo
BEGIN:VTIMEZONE
TZID:Europe/Madrid
BEGIN:DAYLIGHT
TZOFFSETFROM:+0100
TZOFFSETTO:+0200
TZNAME:CEST
DTSTART:20250330T010000
END:DAYLIGHT
BEGIN:STANDARD
TZOFFSETFROM:+0200
TZOFFSETTO:+0100
TZNAME:CET
DTSTART:20251026T010000
END:STANDARD
END:VTIMEZONE
BEGIN:VEVENT
DTSTART;VALUE=DATE:20250719
DTEND;VALUE=DATE:20250801
DTSTAMP:20260420T090539
CREATED:20250220T165212Z
LAST-MODIFIED:20250220T165212Z
UID:4145-1752883200-1754006399@www.asierpolo.com
SUMMARY:Clases Magistrales. Ticino Musica Festival
DESCRIPTION:Más información e inscripciones
URL:https://www.asierpolo.com/evento/clases-magistrales-ticino-musica-festival-3/
LOCATION:Ticino Musica Festival\, c/o CSI\, Via Soldino 9\, Lugano\, Suiza
ATTACH;FMTTYPE=image/jpeg:https://www.asierpolo.com/wp-content/uploads/2025/02/IMG_3690.jpg
END:VEVENT
END:VCALENDAR