BEGIN:VCALENDAR
VERSION:2.0
PRODID:-//Asier Polo - ECPv5.8.1//NONSGML v1.0//EN
CALSCALE:GREGORIAN
METHOD:PUBLISH
X-WR-CALNAME:Asier Polo
X-ORIGINAL-URL:https://www.asierpolo.com
X-WR-CALDESC:Eventos para Asier Polo
BEGIN:VTIMEZONE
TZID:Europe/Madrid
BEGIN:DAYLIGHT
TZOFFSETFROM:+0100
TZOFFSETTO:+0200
TZNAME:CEST
DTSTART:20260329T010000
END:DAYLIGHT
BEGIN:STANDARD
TZOFFSETFROM:+0200
TZOFFSETTO:+0100
TZNAME:CET
DTSTART:20261025T010000
END:STANDARD
END:VTIMEZONE
BEGIN:VEVENT
DTSTART;VALUE=DATE:20260803
DTEND;VALUE=DATE:20260809
DTSTAMP:20260420T070913
CREATED:20260203T012618Z
LAST-MODIFIED:20260203T012618Z
UID:4322-1785715200-1786233599@www.asierpolo.com
SUMMARY:Clases magistrales. Tibor Varga Summer Academy
DESCRIPTION:Tibor Varga Summer Academy \nClases magistrales y Conciertos \n  \n  \nMás información e inscripciones
URL:https://www.asierpolo.com/evento/clases-magistrales-tibor-varga-summer-academy-2/
LOCATION:Academy Of Music Tibor Varga\, Place Ambuel 7\, Sion\, 1950\, Suiza
ATTACH;FMTTYPE=image/jpeg:https://www.asierpolo.com/wp-content/uploads/2026/02/Summer-Academy.jpg
END:VEVENT
END:VCALENDAR