BEGIN:VCALENDAR
VERSION:2.0
PRODID:-//Asier Polo - ECPv5.8.1//NONSGML v1.0//EN
CALSCALE:GREGORIAN
METHOD:PUBLISH
X-WR-CALNAME:Asier Polo
X-ORIGINAL-URL:https://www.asierpolo.com
X-WR-CALDESC:Eventos para Asier Polo
BEGIN:VTIMEZONE
TZID:Europe/Madrid
BEGIN:DAYLIGHT
TZOFFSETFROM:+0100
TZOFFSETTO:+0200
TZNAME:CEST
DTSTART:20250330T010000
END:DAYLIGHT
BEGIN:STANDARD
TZOFFSETFROM:+0200
TZOFFSETTO:+0100
TZNAME:CET
DTSTART:20251026T010000
END:STANDARD
END:VTIMEZONE
BEGIN:VEVENT
DTSTART;VALUE=DATE:20250329
DTEND;VALUE=DATE:20250331
DTSTAMP:20260420T114757
CREATED:20250109T164309Z
LAST-MODIFIED:20250109T164406Z
UID:4093-1743206400-1743379199@www.asierpolo.com
SUMMARY:Clases Magistrales. Pavia Cello Academy
DESCRIPTION:Más información e inscripciones
URL:https://www.asierpolo.com/evento/clases-magistrales-pavia-cello-academy/
LOCATION:Pavia Cello Academy\, Corso Strada Nuova\, 61\, Pavia\, 27100\, Italia
ATTACH;FMTTYPE=image/png:https://www.asierpolo.com/wp-content/uploads/2025/01/logo-testata-blk.png
END:VEVENT
END:VCALENDAR