BEGIN:VCALENDAR
VERSION:2.0
PRODID:-//Asier Polo - ECPv5.8.1//NONSGML v1.0//EN
CALSCALE:GREGORIAN
METHOD:PUBLISH
X-WR-CALNAME:Asier Polo
X-ORIGINAL-URL:https://www.asierpolo.com
X-WR-CALDESC:Eventos para Asier Polo
BEGIN:VTIMEZONE
TZID:Europe/Madrid
BEGIN:DAYLIGHT
TZOFFSETFROM:+0100
TZOFFSETTO:+0200
TZNAME:CEST
DTSTART:20190331T010000
END:DAYLIGHT
BEGIN:STANDARD
TZOFFSETFROM:+0200
TZOFFSETTO:+0100
TZNAME:CET
DTSTART:20191027T010000
END:STANDARD
END:VTIMEZONE
BEGIN:VEVENT
DTSTART;VALUE=DATE:20190706
DTEND;VALUE=DATE:20190711
DTSTAMP:20260420T094338
CREATED:20190218T090600Z
LAST-MODIFIED:20190218T090600Z
UID:2632-1562371200-1562803199@www.asierpolo.com
SUMMARY:Clases magistrales: Garda Lake Music Academy
DESCRIPTION:Inscripciones abiertas hasta el 20 de junio de 2019. \nMás información
URL:https://www.asierpolo.com/evento/clases-magistrales-garda-lake-music-academy/
LOCATION:Scuola di Musica del Garda\, Via Ticino 14\, Desenzano del Garda\, 25015\, Italia
ATTACH;FMTTYPE=image/png:https://www.asierpolo.com/wp-content/uploads/2019/02/marchio-ACADEMY-master.png
END:VEVENT
END:VCALENDAR