BEGIN:VCALENDAR
VERSION:2.0
PRODID:-//Asier Polo - ECPv5.8.1//NONSGML v1.0//EN
CALSCALE:GREGORIAN
METHOD:PUBLISH
X-WR-CALNAME:Asier Polo
X-ORIGINAL-URL:https://www.asierpolo.com
X-WR-CALDESC:Eventos para Asier Polo
BEGIN:VTIMEZONE
TZID:Europe/Madrid
BEGIN:DAYLIGHT
TZOFFSETFROM:+0100
TZOFFSETTO:+0200
TZNAME:CEST
DTSTART:20250330T010000
END:DAYLIGHT
BEGIN:STANDARD
TZOFFSETFROM:+0200
TZOFFSETTO:+0100
TZNAME:CET
DTSTART:20251026T010000
END:STANDARD
END:VTIMEZONE
BEGIN:VEVENT
DTSTART;VALUE=DATE:20251101
DTEND;VALUE=DATE:20251103
DTSTAMP:20260420T102643
CREATED:20250306T120619Z
LAST-MODIFIED:20250306T120904Z
UID:4166-1761955200-1762127999@www.asierpolo.com
SUMMARY:Clases magistrales. Fundación Baremboim-Said
DESCRIPTION:Academia de Estudios Orquestales – Fundación Baremboim-Said \n  \nMás información e inscripciones
URL:https://www.asierpolo.com/evento/clases-magistrales-fundacion-baremboim-said/
LOCATION:Fundacion Baremboim-Said\, Patio de Banderas\, 14\, Sevilla\, Sevilla\, 41004\, España
ATTACH;FMTTYPE=image/jpeg:https://www.asierpolo.com/wp-content/uploads/2025/03/baremboim.jpeg
END:VEVENT
END:VCALENDAR