BEGIN:VCALENDAR
VERSION:2.0
PRODID:-//Asier Polo - ECPv5.8.1//NONSGML v1.0//EN
CALSCALE:GREGORIAN
METHOD:PUBLISH
X-WR-CALNAME:Asier Polo
X-ORIGINAL-URL:https://www.asierpolo.com
X-WR-CALDESC:Eventos para Asier Polo
BEGIN:VTIMEZONE
TZID:Europe/Madrid
BEGIN:DAYLIGHT
TZOFFSETFROM:+0100
TZOFFSETTO:+0200
TZNAME:CEST
DTSTART:20190331T010000
END:DAYLIGHT
BEGIN:STANDARD
TZOFFSETFROM:+0200
TZOFFSETTO:+0100
TZNAME:CET
DTSTART:20191027T010000
END:STANDARD
END:VTIMEZONE
BEGIN:VEVENT
DTSTART;VALUE=DATE:20190721
DTEND;VALUE=DATE:20190728
DTSTAMP:20260422T140727
CREATED:20190218T091803Z
LAST-MODIFIED:20190218T091803Z
UID:2642-1563667200-1564271999@www.asierpolo.com
SUMMARY:Clases magistrales: Forum Musikae
DESCRIPTION:Inscripciones abiertas hasta el 25 de junio de 2019. \nMás información
URL:https://www.asierpolo.com/evento/clases-magistrales-forum-musikae/
LOCATION:Forum Musikae\, Calle Irlanda 3\, Pozuelo de Alarcón\, Madrid\, España
ATTACH;FMTTYPE=image/png:https://www.asierpolo.com/wp-content/uploads/2017/03/Forum-Musikae-logo.png
END:VEVENT
END:VCALENDAR