BEGIN:VCALENDAR
VERSION:2.0
PRODID:-//Asier Polo - ECPv5.8.1//NONSGML v1.0//EN
CALSCALE:GREGORIAN
METHOD:PUBLISH
X-WR-CALNAME:Asier Polo
X-ORIGINAL-URL:https://www.asierpolo.com
X-WR-CALDESC:Eventos para Asier Polo
BEGIN:VTIMEZONE
TZID:Europe/Madrid
BEGIN:DAYLIGHT
TZOFFSETFROM:+0100
TZOFFSETTO:+0200
TZNAME:CEST
DTSTART:20230326T010000
END:DAYLIGHT
BEGIN:STANDARD
TZOFFSETFROM:+0200
TZOFFSETTO:+0100
TZNAME:CET
DTSTART:20231029T010000
END:STANDARD
END:VTIMEZONE
BEGIN:VEVENT
DTSTART;VALUE=DATE:20230807
DTEND;VALUE=DATE:20230812
DTSTAMP:20260423T004952
CREATED:20220906T163736Z
LAST-MODIFIED:20221129T191456Z
UID:3805-1691366400-1691798399@www.asierpolo.com
SUMMARY:Clase magistral. Tibor Varga Summer Academy
DESCRIPTION:60ª edición. \n  \nInscripciones abiertas a partir de marzo de 2023. \n  \nMás información e inscripciones
URL:https://www.asierpolo.com/evento/clase-magistral-tibor-varga-summer-academy/
LOCATION:Academy Of Music Tibor Varga\, Place Ambuel 7\, Sion\, 1950\, Suiza
ATTACH;FMTTYPE=image/jpeg:https://www.asierpolo.com/wp-content/uploads/2022/09/Nuevo-proyecto.jpg
END:VEVENT
END:VCALENDAR