BEGIN:VCALENDAR
VERSION:2.0
PRODID:-//Asier Polo - ECPv5.8.1//NONSGML v1.0//EN
CALSCALE:GREGORIAN
METHOD:PUBLISH
X-WR-CALNAME:Asier Polo
X-ORIGINAL-URL:https://www.asierpolo.com
X-WR-CALDESC:Eventos para Asier Polo
BEGIN:VTIMEZONE
TZID:Europe/Madrid
BEGIN:DAYLIGHT
TZOFFSETFROM:+0100
TZOFFSETTO:+0200
TZNAME:CEST
DTSTART:20220327T010000
END:DAYLIGHT
BEGIN:STANDARD
TZOFFSETFROM:+0200
TZOFFSETTO:+0100
TZNAME:CET
DTSTART:20221030T010000
END:STANDARD
END:VTIMEZONE
BEGIN:VEVENT
DTSTART;VALUE=DATE:20220402
DTEND;VALUE=DATE:20220404
DTSTAMP:20260425T211813
CREATED:20210622T104914Z
LAST-MODIFIED:20210622T104914Z
UID:3689-1648857600-1649030399@www.asierpolo.com
SUMMARY:Clase magistral. Malaga Cello
DESCRIPTION:Más información e inscripciones
URL:https://www.asierpolo.com/evento/clase-magistral-malaga-cello/
LOCATION:Cofradia de los Estudiantes\, Calle Alcazabilla\, 3\, Málaga\, 29015\, España
ATTACH;FMTTYPE=image/jpeg:https://www.asierpolo.com/wp-content/uploads/2015/07/PAVIA-CELLO-ACADEMY.jpg
END:VEVENT
END:VCALENDAR