BEGIN:VCALENDAR
VERSION:2.0
PRODID:-//Asier Polo - ECPv5.8.1//NONSGML v1.0//EN
CALSCALE:GREGORIAN
METHOD:PUBLISH
X-WR-CALNAME:Asier Polo
X-ORIGINAL-URL:https://www.asierpolo.com
X-WR-CALDESC:Eventos para Asier Polo
BEGIN:VTIMEZONE
TZID:Europe/Madrid
BEGIN:DAYLIGHT
TZOFFSETFROM:+0100
TZOFFSETTO:+0200
TZNAME:CEST
DTSTART:20220327T010000
END:DAYLIGHT
BEGIN:STANDARD
TZOFFSETFROM:+0200
TZOFFSETTO:+0100
TZNAME:CET
DTSTART:20221030T010000
END:STANDARD
END:VTIMEZONE
BEGIN:VEVENT
DTSTART;VALUE=DATE:20220709
DTEND;VALUE=DATE:20220714
DTSTAMP:20260425T193325
CREATED:20220401T001514Z
LAST-MODIFIED:20220906T164551Z
UID:3735-1657324800-1657756799@www.asierpolo.com
SUMMARY:Clase magistral. Garda Lake Music Festival
DESCRIPTION:Inscripciones abiertas hasta el 10 de junio de 2022. \n  \nMás información e inscripciones
URL:https://www.asierpolo.com/evento/clase-magistral-garda-lake-music-festival/
LOCATION:Istituto Antoniano Dei Padri Rogazionisti\, Viale Motta\, 54\, Desenzano del Garda\, 25015\, Italia
ATTACH;FMTTYPE=image/jpeg:https://www.asierpolo.com/wp-content/uploads/2022/04/GardaLake2022.jpeg
END:VEVENT
END:VCALENDAR