BEGIN:VCALENDAR
VERSION:2.0
PRODID:-//Asier Polo - ECPv5.8.1//NONSGML v1.0//EN
CALSCALE:GREGORIAN
METHOD:PUBLISH
X-WR-CALNAME:Asier Polo
X-ORIGINAL-URL:https://www.asierpolo.com
X-WR-CALDESC:Eventos para Asier Polo
BEGIN:VTIMEZONE
TZID:Europe/Madrid
BEGIN:DAYLIGHT
TZOFFSETFROM:+0100
TZOFFSETTO:+0200
TZNAME:CEST
DTSTART:20190331T010000
END:DAYLIGHT
BEGIN:STANDARD
TZOFFSETFROM:+0200
TZOFFSETTO:+0100
TZNAME:CET
DTSTART:20191027T010000
END:STANDARD
END:VTIMEZONE
BEGIN:VEVENT
DTSTART;TZID=Europe/Madrid:20190626T193000
DTEND;TZID=Europe/Madrid:20190626T193000
DTSTAMP:20260420T075715
CREATED:20181015T113836Z
LAST-MODIFIED:20181015T113836Z
UID:2544-1561577400-1561577400@www.asierpolo.com
SUMMARY:Bilbao Orkestra Sinfonikoa - Coral de Bilbao
DESCRIPTION:Luis de Pablo: ‘La caída de Bilbao’\, cantanta para orquesta\, violonchelo solista y coro (Estreno absoluto) \n  \nAsier Polo\, violoncello \nJosé Rafael Pascual-Vilaplana\, director \nBilbao Orkestra Sinfonikoa (BOS) \nCoral de Bilbao – Enrique Azurza\, director de coro \nProducción: Bilbao Musika \nMás información y venta de entradas
URL:https://www.asierpolo.com/evento/bilbao-orkestra-sinfonikoa-coral-de-bilbao/
LOCATION:Teatro Arriaga\, Plaza Arriaga\, 1\, Bilbao\, 48005\, España
ATTACH;FMTTYPE=image/jpeg:https://www.asierpolo.com/wp-content/uploads/2018/10/TeatroArriaga.jpg
END:VEVENT
END:VCALENDAR