BEGIN:VCALENDAR
VERSION:2.0
PRODID:-//Asier Polo - ECPv5.8.1//NONSGML v1.0//EN
CALSCALE:GREGORIAN
METHOD:PUBLISH
X-WR-CALNAME:Asier Polo
X-ORIGINAL-URL:https://www.asierpolo.com
X-WR-CALDESC:Eventos para Asier Polo
BEGIN:VTIMEZONE
TZID:Europe/Madrid
BEGIN:DAYLIGHT
TZOFFSETFROM:+0100
TZOFFSETTO:+0200
TZNAME:CEST
DTSTART:20240331T010000
END:DAYLIGHT
BEGIN:STANDARD
TZOFFSETFROM:+0200
TZOFFSETTO:+0100
TZNAME:CET
DTSTART:20241027T010000
END:STANDARD
END:VTIMEZONE
BEGIN:VEVENT
DTSTART;TZID=Europe/Madrid:20240317T113000
DTEND;TZID=Europe/Madrid:20240317T113000
DTSTAMP:20260421T090705
CREATED:20230512T175146Z
LAST-MODIFIED:20230512T182427Z
UID:3940-1710675000-1710675000@www.asierpolo.com
SUMMARY:Bilbao Orkestra Sinfonikoa
DESCRIPTION:Temporada Orquesta y Coro Nacionales de España \n  \nR. Strauss: Don Quixote\, op. 35 \n  \nAsier Polo\, violonchelo \nGiancarlo Guerrero\, director \nBilbao Orkestra Sinfonikoa (BOS) \n  \nMás información y venta de entradas
URL:https://www.asierpolo.com/evento/bilbao-orkestra-sinfonikoa-7/
LOCATION:Auditorio Nacional de Música\, C/ Príncipe de Vergara\, 146\, Madrid\, 28002\, España
ATTACH;FMTTYPE=image/jpeg:https://www.asierpolo.com/wp-content/uploads/2019/09/NCS9645-copia.jpg
END:VEVENT
END:VCALENDAR