BEGIN:VCALENDAR
VERSION:2.0
PRODID:-//Asier Polo - ECPv5.8.1//NONSGML v1.0//EN
CALSCALE:GREGORIAN
METHOD:PUBLISH
X-WR-CALNAME:Asier Polo
X-ORIGINAL-URL:https://www.asierpolo.com
X-WR-CALDESC:Eventos para Asier Polo
BEGIN:VTIMEZONE
TZID:Europe/Madrid
BEGIN:DAYLIGHT
TZOFFSETFROM:+0100
TZOFFSETTO:+0200
TZNAME:CEST
DTSTART:20220327T010000
END:DAYLIGHT
BEGIN:STANDARD
TZOFFSETFROM:+0200
TZOFFSETTO:+0100
TZNAME:CET
DTSTART:20221030T010000
END:STANDARD
END:VTIMEZONE
BEGIN:VEVENT
DTSTART;TZID=Europe/Madrid:20220325T193000
DTEND;TZID=Europe/Madrid:20220325T193000
DTSTAMP:20260425T211824
CREATED:20210618T105348Z
LAST-MODIFIED:20210618T105348Z
UID:3642-1648236600-1648236600@www.asierpolo.com
SUMMARY:Bilbao Orkestra Sinfonikoa
DESCRIPTION:F. J. Haydn: Concierto para violonchelo y orquesta nº1 en do mayor \n  \nAsier Polo\, violonchelo \nLaurence Equilbey\, directora \nBOS Bilbao Orkestra Sinfonikoa – Orquesta Sinfónica de Bilbao \n  \nMás información y venta de entradas
URL:https://www.asierpolo.com/evento/bilbao-orkestra-sinfonikoa-2/
LOCATION:Palacio Euskalduna Jauregia\, Abandoibarra Etorb.\, 4\, Bilbao\, 48011\, España
ATTACH;FMTTYPE=image/jpeg:https://www.asierpolo.com/wp-content/uploads/2021/01/AsierPolo9779ml©NoahShaye.jpg
END:VEVENT
END:VCALENDAR