BEGIN:VCALENDAR
VERSION:2.0
PRODID:-//Asier Polo - ECPv5.8.1//NONSGML v1.0//EN
CALSCALE:GREGORIAN
METHOD:PUBLISH
X-WR-CALNAME:Asier Polo
X-ORIGINAL-URL:https://www.asierpolo.com
X-WR-CALDESC:Eventos para Asier Polo
BEGIN:VTIMEZONE
TZID:Europe/Madrid
BEGIN:DAYLIGHT
TZOFFSETFROM:+0100
TZOFFSETTO:+0200
TZNAME:CEST
DTSTART:20220327T010000
END:DAYLIGHT
BEGIN:STANDARD
TZOFFSETFROM:+0200
TZOFFSETTO:+0100
TZNAME:CET
DTSTART:20221030T010000
END:STANDARD
END:VTIMEZONE
BEGIN:VEVENT
DTSTART;TZID=Europe/Madrid:20220130T180000
DTEND;TZID=Europe/Madrid:20220130T180000
DTSTAMP:20260425T230532
CREATED:20210603T094356Z
LAST-MODIFIED:20210603T094432Z
UID:3596-1643565600-1643565600@www.asierpolo.com
SUMMARY:Banda Municipal de Barcelona
DESCRIPTION:E. Elgar: Concierto para violonchelo y orquesta en mi menor\, op. 85 \n  \nAsier Polo\, violonchelo \nJosé Rafael Pascual-Vilaplana\, director \nBanda Municipal de Barcelona \n  \nMás información y venta de entradas
URL:https://www.asierpolo.com/evento/banda-municipal-de-barcelona/
LOCATION:L’Auditori de Barcelona\, Carrer de Lepant\, 150\, Barcelona\, 08013\, España
ATTACH;FMTTYPE=image/jpeg:https://www.asierpolo.com/wp-content/uploads/2019/09/NCS9543-copia.jpg
END:VEVENT
END:VCALENDAR