BEGIN:VCALENDAR
VERSION:2.0
PRODID:-//Asier Polo - ECPv5.8.1//NONSGML v1.0//EN
CALSCALE:GREGORIAN
METHOD:PUBLISH
X-WR-CALNAME:Asier Polo
X-ORIGINAL-URL:https://www.asierpolo.com
X-WR-CALDESC:Eventos para Asier Polo
BEGIN:VTIMEZONE
TZID:Europe/Madrid
BEGIN:DAYLIGHT
TZOFFSETFROM:+0100
TZOFFSETTO:+0200
TZNAME:CEST
DTSTART:20180325T010000
END:DAYLIGHT
BEGIN:STANDARD
TZOFFSETFROM:+0200
TZOFFSETTO:+0100
TZNAME:CET
DTSTART:20181028T010000
END:STANDARD
END:VTIMEZONE
BEGIN:VEVENT
DTSTART;TZID=Europe/Madrid:20180930T190000
DTEND;TZID=Europe/Madrid:20180930T190000
DTSTAMP:20260420T075224
CREATED:20180918T185931Z
LAST-MODIFIED:20180918T190726Z
UID:2405-1538334000-1538334000@www.asierpolo.com
SUMMARY:Asier Polo\, cello & Eldar Nebolsin\, piano
DESCRIPTION:Sonata para violonchelo y piano nº1 en mi menor\, Op. 38 \nSonata para violonchelo y piano nº2 en fa mayor\, Op. 99 \n  \n“Von ewiger Liebe”\, Op. 43 nº1 \n“Die Mainacht”\, Op. 43 nº2 \n“Wie Melodien zieht es mir”\, Op. 105 nº1 \n“Ständchen” Op. 106 nº1 \n  \nAsier Polo\, violonchelo \nEldar Nebolsin\, piano \nMás información y venta de entradas
URL:https://www.asierpolo.com/evento/asier-polo-cello-eldar-nebolsin-piano/
LOCATION:Blackmore’s – Berlins Musikzimmer\, Warmbrunner Str. 52\, Berlin\, 14193\, Alemania
ATTACH;FMTTYPE=image/jpeg:https://www.asierpolo.com/wp-content/uploads/2018/09/asierpoloeldarnebolsin.jpg
END:VEVENT
END:VCALENDAR