BEGIN:VCALENDAR
VERSION:2.0
PRODID:-//Asier Polo - ECPv5.8.1//NONSGML v1.0//EN
CALSCALE:GREGORIAN
METHOD:PUBLISH
X-WR-CALNAME:Asier Polo
X-ORIGINAL-URL:https://www.asierpolo.com
X-WR-CALDESC:Eventos para Asier Polo
BEGIN:VTIMEZONE
TZID:Europe/Madrid
BEGIN:DAYLIGHT
TZOFFSETFROM:+0100
TZOFFSETTO:+0200
TZNAME:CEST
DTSTART:20250330T010000
END:DAYLIGHT
BEGIN:STANDARD
TZOFFSETFROM:+0200
TZOFFSETTO:+0100
TZNAME:CET
DTSTART:20251026T010000
END:STANDARD
END:VTIMEZONE
BEGIN:VEVENT
DTSTART;TZID=Europe/Madrid:20250111T190000
DTEND;TZID=Europe/Madrid:20250111T190000
DTSTAMP:20260424T102155
CREATED:20250109T142214Z
LAST-MODIFIED:20250109T142214Z
UID:4083-1736622000-1736622000@www.asierpolo.com
SUMMARY:Aromak
DESCRIPTION:“Aromak. Chillidaren urteurrenean” \n  \nAsier Polo\, violonchelo \nMarta Zabaleta\, piano \nEdurne Zabalo\, clarinete \nGorka Hermosa\, acordeón \nBlanchard Strings \nXegun Altolagirre\, narrador \n  \nMás información y venta de entradas
URL:https://www.asierpolo.com/evento/aromak-2/
LOCATION:Latxartegi Aretoa\, Latxartegi Kalea\, 9\, Legazpia\, Gipuzkoa\, 20230\, España
ATTACH;FMTTYPE=image/jpeg:https://www.asierpolo.com/wp-content/uploads/2025/01/IMG_3358.jpg
END:VEVENT
END:VCALENDAR