BEGIN:VCALENDAR
VERSION:2.0
PRODID:-//Asier Polo - ECPv5.8.1//NONSGML v1.0//EN
CALSCALE:GREGORIAN
METHOD:PUBLISH
X-WR-CALNAME:Asier Polo
X-ORIGINAL-URL:https://www.asierpolo.com/en/
X-WR-CALDESC:Events for Asier Polo
BEGIN:VTIMEZONE
TZID:Europe/Madrid
BEGIN:DAYLIGHT
TZOFFSETFROM:+0100
TZOFFSETTO:+0200
TZNAME:CEST
DTSTART:20250330T010000
END:DAYLIGHT
BEGIN:STANDARD
TZOFFSETFROM:+0200
TZOFFSETTO:+0100
TZNAME:CET
DTSTART:20251026T010000
END:STANDARD
END:VTIMEZONE
BEGIN:VEVENT
DTSTART;TZID=Europe/Madrid:20250716T200000
DTEND;TZID=Europe/Madrid:20250716T200000
DTSTAMP:20260420T132912
CREATED:20250314T005549Z
LAST-MODIFIED:20250314T005549Z
UID:4216-1752696000-1752696000@www.asierpolo.com
SUMMARY:XXXIX Bakio Musical Week
DESCRIPTION:Works of Beethoven\, Brahms\, Respighi\, Boulanger\, Debussy… \n\n\n  \n\n\nAsier Polo\, cello \n\n\nMarta Zabaleta\, piano
URL:https://www.asierpolo.com/en/evento/xxxix-bakio-musical-week/
LOCATION:Iglesia de Andra Mari\, Monte Jata\, Bakio\, Bizkaia\, 48130\, España
ATTACH;FMTTYPE=image/jpeg:https://www.asierpolo.com/wp-content/uploads/2023/05/1-ASIER-POLO115-copia-scaled.jpg
END:VEVENT
END:VCALENDAR