BEGIN:VCALENDAR
VERSION:2.0
PRODID:-//Asier Polo - ECPv5.8.1//NONSGML v1.0//EN
CALSCALE:GREGORIAN
METHOD:PUBLISH
X-WR-CALNAME:Asier Polo
X-ORIGINAL-URL:https://www.asierpolo.com/en/
X-WR-CALDESC:Events for Asier Polo
BEGIN:VTIMEZONE
TZID:Europe/Madrid
BEGIN:DAYLIGHT
TZOFFSETFROM:+0100
TZOFFSETTO:+0200
TZNAME:CEST
DTSTART:20250330T010000
END:DAYLIGHT
BEGIN:STANDARD
TZOFFSETFROM:+0200
TZOFFSETTO:+0100
TZNAME:CET
DTSTART:20251026T010000
END:STANDARD
END:VTIMEZONE
BEGIN:VEVENT
DTSTART;TZID=Europe/Madrid:20250702T210000
DTEND;TZID=Europe/Madrid:20250702T210000
DTSTAMP:20260420T133019
CREATED:20250314T004211Z
LAST-MODIFIED:20250314T004211Z
UID:4208-1751490000-1751490000@www.asierpolo.com
SUMMARY:XLVII Deià International Music Festival
DESCRIPTION:Works of Beethoven\, Brahms\, Respighi\, Boulanger\, Debussy… \n\n\n  \n\n\nAsier Polo\, cello \n\n\nMarta Zabaleta\, piano \n\n\n  \n\n\nMore information
URL:https://www.asierpolo.com/en/evento/xlvii-deia-international-music-festival/
LOCATION:Son Marroig\, Deià\, Mallorca\, España
ATTACH;FMTTYPE=image/jpeg:https://www.asierpolo.com/wp-content/uploads/2021/01/AsierPolo9779ml©NoahShaye.jpg
END:VEVENT
END:VCALENDAR