BEGIN:VCALENDAR
VERSION:2.0
PRODID:-//Asier Polo - ECPv5.8.1//NONSGML v1.0//EN
CALSCALE:GREGORIAN
METHOD:PUBLISH
X-WR-CALNAME:Asier Polo
X-ORIGINAL-URL:https://www.asierpolo.com/en/
X-WR-CALDESC:Events for Asier Polo
BEGIN:VTIMEZONE
TZID:Europe/Madrid
BEGIN:DAYLIGHT
TZOFFSETFROM:+0100
TZOFFSETTO:+0200
TZNAME:CEST
DTSTART:20180325T010000
END:DAYLIGHT
BEGIN:STANDARD
TZOFFSETFROM:+0200
TZOFFSETTO:+0100
TZNAME:CET
DTSTART:20181028T010000
END:STANDARD
END:VTIMEZONE
BEGIN:VEVENT
DTSTART;TZID=Europe/Madrid:20180905T203000
DTEND;TZID=Europe/Madrid:20180905T203000
DTSTAMP:20260422T175451
CREATED:20180705T192519Z
LAST-MODIFIED:20180705T193035Z
UID:2348-1536179400-1536179400@www.asierpolo.com
SUMMARY:Stresa Festival: Cello Suites (I)
DESCRIPTION:J. S. Bach: Cello Suites no. 1\, 4 & 5 (BWV 1007\, 1010\, 1011) \n  \nMore info and ticket sales \n 
URL:https://www.asierpolo.com/en/evento/stresa-festival-suites-para-violoncello-solo-i/
LOCATION:Eremo di Santa Caterina del Sasso\, Leggiuno\, Italia
ATTACH;FMTTYPE=image/jpeg:https://www.asierpolo.com/wp-content/uploads/2018/07/Stresa_Festival_LOGO.jpg
END:VEVENT
END:VCALENDAR