BEGIN:VCALENDAR
VERSION:2.0
PRODID:-//Asier Polo - ECPv5.8.1//NONSGML v1.0//EN
CALSCALE:GREGORIAN
METHOD:PUBLISH
X-WR-CALNAME:Asier Polo
X-ORIGINAL-URL:https://www.asierpolo.com/en/
X-WR-CALDESC:Events for Asier Polo
BEGIN:VTIMEZONE
TZID:Europe/Madrid
BEGIN:DAYLIGHT
TZOFFSETFROM:+0100
TZOFFSETTO:+0200
TZNAME:CEST
DTSTART:20180325T010000
END:DAYLIGHT
BEGIN:STANDARD
TZOFFSETFROM:+0200
TZOFFSETTO:+0100
TZNAME:CET
DTSTART:20181028T010000
END:STANDARD
END:VTIMEZONE
BEGIN:VEVENT
DTSTART;TZID=Europe/Madrid:20180912T210000
DTEND;TZID=Europe/Madrid:20180912T210000
DTSTAMP:20260422T122813
CREATED:20180705T205122Z
LAST-MODIFIED:20180705T205335Z
UID:2364-1536786000-1536786000@www.asierpolo.com
SUMMARY:Recital: Bach's Suites
DESCRIPTION:J. S. Bach: Cello Suites no. 3\, 2 & 6 (BWV 1009\, 1008\, 1012) \n 
URL:https://www.asierpolo.com/en/evento/recital-suites-de-bach-sirmione/
LOCATION:Chiesa di San Pietro in Mavino\, Via S. Pietro in Mavino\, Sirmione\, Brescia\, 25019\, Italia
ATTACH;FMTTYPE=image/jpeg:https://www.asierpolo.com/wp-content/uploads/2016/03/NOA1930-1.jpg
END:VEVENT
END:VCALENDAR