BEGIN:VCALENDAR
VERSION:2.0
PRODID:-//Asier Polo - ECPv5.8.1//NONSGML v1.0//EN
CALSCALE:GREGORIAN
METHOD:PUBLISH
X-WR-CALNAME:Asier Polo
X-ORIGINAL-URL:https://www.asierpolo.com/en/
X-WR-CALDESC:Events for Asier Polo
BEGIN:VTIMEZONE
TZID:Europe/Madrid
BEGIN:DAYLIGHT
TZOFFSETFROM:+0100
TZOFFSETTO:+0200
TZNAME:CEST
DTSTART:20200329T010000
END:DAYLIGHT
BEGIN:STANDARD
TZOFFSETFROM:+0200
TZOFFSETTO:+0100
TZNAME:CET
DTSTART:20201025T010000
END:STANDARD
END:VTIMEZONE
BEGIN:VEVENT
DTSTART;TZID=Europe/Madrid:20200702T193000
DTEND;TZID=Europe/Madrid:20200702T193000
DTSTAMP:20260425T181938
CREATED:20200603T180001Z
LAST-MODIFIED:20200603T181002Z
UID:3135-1593718200-1593718200@www.asierpolo.com
SUMMARY:Recital: Bach's Suites. 'Poema visual para un cello'
DESCRIPTION:Visual poem for a cello \n  \nJ. S. Bach: \nCello Suite no.2 in D minor\, BWV 1008 \nCello Suite no.3 in C major\, BWV 1009 \nCello Suite no.4 in Eb major\, BWV 1010 \n  \nAsier Polo\, cello \nSergio Verde\, video \nCalixto Bieito\, stage direction \nA production by Teatro Arriaga \n  \nMore info & tickets
URL:https://www.asierpolo.com/en/evento/recital-suites-de-bach-poema-visual-para-un-cello/
LOCATION:Teatro Arriaga\, Plaza Arriaga\, 1\, Bilbao\, 48005\, España
ATTACH;FMTTYPE=image/jpeg:https://www.asierpolo.com/wp-content/uploads/2016/09/AsierPolo2.jpg
END:VEVENT
END:VCALENDAR